BEGIN:VCALENDAR
VERSION:2.0
PRODID:-//Lower Pottsgrove Sportsman&#039;s Association - ECPv6.15.13//NONSGML v1.0//EN
CALSCALE:GREGORIAN
METHOD:PUBLISH
X-WR-CALNAME:Lower Pottsgrove Sportsman&#039;s Association
X-ORIGINAL-URL:https://lpsa.us
X-WR-CALDESC:Events for Lower Pottsgrove Sportsman&#039;s Association
REFRESH-INTERVAL;VALUE=DURATION:PT1H
X-Robots-Tag:noindex
X-PUBLISHED-TTL:PT1H
BEGIN:VTIMEZONE
TZID:America/New_York
BEGIN:DAYLIGHT
TZOFFSETFROM:-0500
TZOFFSETTO:-0400
TZNAME:EDT
DTSTART:20250309T070000
END:DAYLIGHT
BEGIN:STANDARD
TZOFFSETFROM:-0400
TZOFFSETTO:-0500
TZNAME:EST
DTSTART:20251102T060000
END:STANDARD
BEGIN:DAYLIGHT
TZOFFSETFROM:-0500
TZOFFSETTO:-0400
TZNAME:EDT
DTSTART:20260308T070000
END:DAYLIGHT
BEGIN:STANDARD
TZOFFSETFROM:-0400
TZOFFSETTO:-0500
TZNAME:EST
DTSTART:20261101T060000
END:STANDARD
BEGIN:DAYLIGHT
TZOFFSETFROM:-0500
TZOFFSETTO:-0400
TZNAME:EDT
DTSTART:20270314T070000
END:DAYLIGHT
BEGIN:STANDARD
TZOFFSETFROM:-0400
TZOFFSETTO:-0500
TZNAME:EST
DTSTART:20271107T060000
END:STANDARD
END:VTIMEZONE
BEGIN:VEVENT
DTSTART;TZID=America/New_York:20260502T070000
DTEND;TZID=America/New_York:20260502T150000
DTSTAMP:20260424T135303
CREATED:20260409T181807Z
LAST-MODIFIED:20260409T181807Z
UID:3800-1777705200-1777734000@lpsa.us
SUMMARY:ANNUAL TROUT RODEO!!!
DESCRIPTION:Saturday May 2nd- Registration 7am\, Fishing is from 8-Noon for the kids! \nPrizes awarded- Noon-1pm \nAdult Fishing Contest-1pm-3pm \nIronstone Park-141 Grist Mill Road\, Boyertown \nRodeo is open to kids 15 & under. Please stop in Clubhouse to sign kids up!!
URL:https://lpsa.us/event/annual-trout-rodeo-2/
END:VEVENT
BEGIN:VEVENT
DTSTART;TZID=America/New_York:20260503T110000
DTEND;TZID=America/New_York:20260503T110000
DTSTAMP:20260424T135303
CREATED:20260128T152651Z
LAST-MODIFIED:20260128T152651Z
UID:3596-1777806000-1777806000@lpsa.us
SUMMARY:Pistol Shoot
DESCRIPTION:Sign-ups start at 10:30\, shoot begins at 11
URL:https://lpsa.us/event/pistol-shoot-39/
END:VEVENT
BEGIN:VEVENT
DTSTART;TZID=America/New_York:20260504T130000
DTEND;TZID=America/New_York:20260504T130000
DTSTAMP:20260424T135303
CREATED:20260128T153151Z
LAST-MODIFIED:20260128T153151Z
UID:3621-1777899600-1777899600@lpsa.us
SUMMARY:Free Pool Night
DESCRIPTION:
URL:https://lpsa.us/event/free-pool-night-166/
END:VEVENT
BEGIN:VEVENT
DTSTART;TZID=America/New_York:20260507T170000
DTEND;TZID=America/New_York:20260507T170000
DTSTAMP:20260424T135303
CREATED:20260128T154152Z
LAST-MODIFIED:20260128T154152Z
UID:3674-1778173200-1778173200@lpsa.us
SUMMARY:Trap Shoot
DESCRIPTION:
URL:https://lpsa.us/event/trap-shoot-166/
END:VEVENT
BEGIN:VEVENT
DTSTART;TZID=America/New_York:20260509T080000
DTEND;TZID=America/New_York:20260509T120000
DTSTAMP:20260424T135303
CREATED:20260128T152450Z
LAST-MODIFIED:20260128T152450Z
UID:3584-1778313600-1778328000@lpsa.us
SUMMARY:Work Party and Range Tour
DESCRIPTION:
URL:https://lpsa.us/event/work-party-and-range-tour-38/
END:VEVENT
BEGIN:VEVENT
DTSTART;TZID=America/New_York:20260511T130000
DTEND;TZID=America/New_York:20260511T130000
DTSTAMP:20260424T135303
CREATED:20260128T153152Z
LAST-MODIFIED:20260128T153152Z
UID:3622-1778504400-1778504400@lpsa.us
SUMMARY:Free Pool Night
DESCRIPTION:
URL:https://lpsa.us/event/free-pool-night-167/
END:VEVENT
BEGIN:VEVENT
DTSTART;TZID=America/New_York:20260511T190000
DTEND;TZID=America/New_York:20260511T190000
DTSTAMP:20260424T135303
CREATED:20260128T155826Z
LAST-MODIFIED:20260128T155826Z
UID:3725-1778526000-1778526000@lpsa.us
SUMMARY:Officers Meeting
DESCRIPTION:
URL:https://lpsa.us/event/officers-meeting-27/
END:VEVENT
BEGIN:VEVENT
DTSTART;TZID=America/New_York:20260512T193000
DTEND;TZID=America/New_York:20260512T193000
DTSTAMP:20260424T135303
CREATED:20260128T155054Z
LAST-MODIFIED:20260128T155054Z
UID:3713-1778614200-1778614200@lpsa.us
SUMMARY:General Membership Meeting
DESCRIPTION:Monthly general membership meeting will start at 7:30pm. You must be an active member or have an application in for membership to attend meeting.
URL:https://lpsa.us/event/general-membership-meeting-38/
END:VEVENT
BEGIN:VEVENT
DTSTART;TZID=America/New_York:20260514T170000
DTEND;TZID=America/New_York:20260514T170000
DTSTAMP:20260424T135303
CREATED:20260128T154251Z
LAST-MODIFIED:20260128T154251Z
UID:3675-1778778000-1778778000@lpsa.us
SUMMARY:Trap Shoot
DESCRIPTION:
URL:https://lpsa.us/event/trap-shoot-167/
END:VEVENT
BEGIN:VEVENT
DTSTART;TZID=America/New_York:20260518T130000
DTEND;TZID=America/New_York:20260518T130000
DTSTAMP:20260424T135303
CREATED:20260128T153152Z
LAST-MODIFIED:20260128T153152Z
UID:3623-1779109200-1779109200@lpsa.us
SUMMARY:Free Pool Night
DESCRIPTION:
URL:https://lpsa.us/event/free-pool-night-168/
END:VEVENT
BEGIN:VEVENT
DTSTART;TZID=America/New_York:20260521T170000
DTEND;TZID=America/New_York:20260521T170000
DTSTAMP:20260424T135303
CREATED:20260128T154251Z
LAST-MODIFIED:20260128T154251Z
UID:3676-1779382800-1779382800@lpsa.us
SUMMARY:Trap Shoot
DESCRIPTION:
URL:https://lpsa.us/event/trap-shoot-168/
END:VEVENT
BEGIN:VEVENT
DTSTART;TZID=America/New_York:20260525T130000
DTEND;TZID=America/New_York:20260525T130000
DTSTAMP:20260424T135303
CREATED:20260128T153152Z
LAST-MODIFIED:20260128T153152Z
UID:3624-1779714000-1779714000@lpsa.us
SUMMARY:Free Pool Night
DESCRIPTION:
URL:https://lpsa.us/event/free-pool-night-169/
END:VEVENT
BEGIN:VEVENT
DTSTART;TZID=America/New_York:20260528T170000
DTEND;TZID=America/New_York:20260528T170000
DTSTAMP:20260424T135303
CREATED:20260128T154252Z
LAST-MODIFIED:20260128T154252Z
UID:3677-1779987600-1779987600@lpsa.us
SUMMARY:Trap Shoot
DESCRIPTION:
URL:https://lpsa.us/event/trap-shoot-169/
END:VEVENT
END:VCALENDAR