BEGIN:VCALENDAR
VERSION:2.0
PRODID:-//Lower Pottsgrove Sportsman&#039;s Association - ECPv6.15.13//NONSGML v1.0//EN
CALSCALE:GREGORIAN
METHOD:PUBLISH
X-WR-CALNAME:Lower Pottsgrove Sportsman&#039;s Association
X-ORIGINAL-URL:https://lpsa.us
X-WR-CALDESC:Events for Lower Pottsgrove Sportsman&#039;s Association
REFRESH-INTERVAL;VALUE=DURATION:PT1H
X-Robots-Tag:noindex
X-PUBLISHED-TTL:PT1H
BEGIN:VTIMEZONE
TZID:America/New_York
BEGIN:DAYLIGHT
TZOFFSETFROM:-0500
TZOFFSETTO:-0400
TZNAME:EDT
DTSTART:20250309T070000
END:DAYLIGHT
BEGIN:STANDARD
TZOFFSETFROM:-0400
TZOFFSETTO:-0500
TZNAME:EST
DTSTART:20251102T060000
END:STANDARD
BEGIN:DAYLIGHT
TZOFFSETFROM:-0500
TZOFFSETTO:-0400
TZNAME:EDT
DTSTART:20260308T070000
END:DAYLIGHT
BEGIN:STANDARD
TZOFFSETFROM:-0400
TZOFFSETTO:-0500
TZNAME:EST
DTSTART:20261101T060000
END:STANDARD
BEGIN:DAYLIGHT
TZOFFSETFROM:-0500
TZOFFSETTO:-0400
TZNAME:EDT
DTSTART:20270314T070000
END:DAYLIGHT
BEGIN:STANDARD
TZOFFSETFROM:-0400
TZOFFSETTO:-0500
TZNAME:EST
DTSTART:20271107T060000
END:STANDARD
END:VTIMEZONE
BEGIN:VEVENT
DTSTART;TZID=America/New_York:20260301T110000
DTEND;TZID=America/New_York:20260301T110000
DTSTAMP:20260424T135312
CREATED:20260128T152552Z
LAST-MODIFIED:20260128T152552Z
UID:3594-1772362800-1772362800@lpsa.us
SUMMARY:Pistol Shoot
DESCRIPTION:Sign-ups start at 10:30\, shoot begins at 11
URL:https://lpsa.us/event/pistol-shoot-37/
END:VEVENT
BEGIN:VEVENT
DTSTART;TZID=America/New_York:20260302T130000
DTEND;TZID=America/New_York:20260302T130000
DTSTAMP:20260424T135312
CREATED:20260128T152952Z
LAST-MODIFIED:20260128T152952Z
UID:3612-1772456400-1772456400@lpsa.us
SUMMARY:Free Pool Night
DESCRIPTION:
URL:https://lpsa.us/event/free-pool-night-157/
END:VEVENT
BEGIN:VEVENT
DTSTART;TZID=America/New_York:20260305T170000
DTEND;TZID=America/New_York:20260305T170000
DTSTAMP:20260424T135312
CREATED:20260128T154051Z
LAST-MODIFIED:20260128T154051Z
UID:3665-1772730000-1772730000@lpsa.us
SUMMARY:Trap Shoot
DESCRIPTION:
URL:https://lpsa.us/event/trap-shoot-157/
END:VEVENT
BEGIN:VEVENT
DTSTART;TZID=America/New_York:20260309T130000
DTEND;TZID=America/New_York:20260309T130000
DTSTAMP:20260424T135312
CREATED:20260128T152952Z
LAST-MODIFIED:20260128T152952Z
UID:3613-1773061200-1773061200@lpsa.us
SUMMARY:Free Pool Night
DESCRIPTION:
URL:https://lpsa.us/event/free-pool-night-158/
END:VEVENT
BEGIN:VEVENT
DTSTART;TZID=America/New_York:20260309T190000
DTEND;TZID=America/New_York:20260309T190000
DTSTAMP:20260424T135312
CREATED:20260128T155727Z
LAST-MODIFIED:20260128T155727Z
UID:3723-1773082800-1773082800@lpsa.us
SUMMARY:Officers Meeting
DESCRIPTION:
URL:https://lpsa.us/event/officers-meeting-25/
END:VEVENT
BEGIN:VEVENT
DTSTART;TZID=America/New_York:20260310T193000
DTEND;TZID=America/New_York:20260310T193000
DTSTAMP:20260424T135312
CREATED:20260128T155053Z
LAST-MODIFIED:20260128T155053Z
UID:3711-1773171000-1773171000@lpsa.us
SUMMARY:General Membership Meeting
DESCRIPTION:Monthly general membership meeting will start at 7:30pm. You must be an active member or have an application in for membership to attend meeting.
URL:https://lpsa.us/event/general-membership-meeting-36/
END:VEVENT
BEGIN:VEVENT
DTSTART;TZID=America/New_York:20260312T170000
DTEND;TZID=America/New_York:20260312T170000
DTSTAMP:20260424T135312
CREATED:20260128T154051Z
LAST-MODIFIED:20260128T154051Z
UID:3666-1773334800-1773334800@lpsa.us
SUMMARY:Trap Shoot
DESCRIPTION:
URL:https://lpsa.us/event/trap-shoot-158/
END:VEVENT
BEGIN:VEVENT
DTSTART;TZID=America/New_York:20260314T080000
DTEND;TZID=America/New_York:20260314T120000
DTSTAMP:20260424T135312
CREATED:20260128T152450Z
LAST-MODIFIED:20260128T152450Z
UID:3582-1773475200-1773489600@lpsa.us
SUMMARY:Work Party and Range Tour
DESCRIPTION:
URL:https://lpsa.us/event/work-party-and-range-tour-36/
END:VEVENT
BEGIN:VEVENT
DTSTART;TZID=America/New_York:20260316T130000
DTEND;TZID=America/New_York:20260316T130000
DTSTAMP:20260424T135312
CREATED:20260128T152952Z
LAST-MODIFIED:20260128T152952Z
UID:3614-1773666000-1773666000@lpsa.us
SUMMARY:Free Pool Night
DESCRIPTION:
URL:https://lpsa.us/event/free-pool-night-159/
END:VEVENT
BEGIN:VEVENT
DTSTART;TZID=America/New_York:20260318T163000
DTEND;TZID=America/New_York:20260318T193000
DTSTAMP:20260424T135312
CREATED:20260305T180709Z
LAST-MODIFIED:20260305T180709Z
UID:3776-1773851400-1773862200@lpsa.us
SUMMARY:WING NIIGHT!!!
DESCRIPTION:Wings are served from 4:30-7:30pm! Our wing nights have become very busy & we really appreciate your patience! \n 
URL:https://lpsa.us/event/wing-niight/
END:VEVENT
BEGIN:VEVENT
DTSTART;TZID=America/New_York:20260319T170000
DTEND;TZID=America/New_York:20260319T170000
DTSTAMP:20260424T135312
CREATED:20260128T154052Z
LAST-MODIFIED:20260128T154052Z
UID:3667-1773939600-1773939600@lpsa.us
SUMMARY:Trap Shoot
DESCRIPTION:
URL:https://lpsa.us/event/trap-shoot-159/
END:VEVENT
BEGIN:VEVENT
DTSTART;TZID=America/New_York:20260321T083000
DTEND;TZID=America/New_York:20260321T123000
DTSTAMP:20260424T135312
CREATED:20260210T211509Z
LAST-MODIFIED:20260220T193938Z
UID:3752-1774081800-1774096200@lpsa.us
SUMMARY:WOMEN ON TARGET!
DESCRIPTION:If you’re curious about firearms (PISTOL) whether for personal defense or to learn a new sport\, trapshooting. Women On Target is the perfect place to start. The instructional shooting clinic is designed to reach you firearm safety and the fundamentals of marksmanship\, giving you the confidence you need to safely handle and operate firearm upon completion. The clinic is available to women only\, it’s a safe and friendly environment whether you’re picking up a pistol for the very first time or are just brushing off some dust and need a little refresher. You will immediately feel at ease in the half day clinic\, and will be provided with a hands on\, one of a kind learning opportunity. No experience necessary to participate. Firearms\, ammo and targets are included\, but if you have your own ear and eye protection you are encouraged to bring and use them. Ready to give it a try? Register today!! Class will be held at Lower Pottsgrove Sportsmen’s Association. \nPlease contact Anna Cousins-Snyder- NRA Training Counselor \nNicegrouping556@gmail.com or call 6103109639
URL:https://lpsa.us/event/women-on-target/
END:VEVENT
BEGIN:VEVENT
DTSTART;TZID=America/New_York:20260323T130000
DTEND;TZID=America/New_York:20260323T130000
DTSTAMP:20260424T135312
CREATED:20260128T153051Z
LAST-MODIFIED:20260128T153051Z
UID:3615-1774270800-1774270800@lpsa.us
SUMMARY:Free Pool Night
DESCRIPTION:
URL:https://lpsa.us/event/free-pool-night-160/
END:VEVENT
BEGIN:VEVENT
DTSTART;TZID=America/New_York:20260326T170000
DTEND;TZID=America/New_York:20260326T170000
DTSTAMP:20260424T135312
CREATED:20260128T154052Z
LAST-MODIFIED:20260128T154052Z
UID:3668-1774544400-1774544400@lpsa.us
SUMMARY:Trap Shoot
DESCRIPTION:
URL:https://lpsa.us/event/trap-shoot-160/
END:VEVENT
BEGIN:VEVENT
DTSTART;TZID=America/New_York:20260328T090000
DTEND;TZID=America/New_York:20260328T133000
DTSTAMP:20260424T135312
CREATED:20260326T021519Z
LAST-MODIFIED:20260326T021519Z
UID:3789-1774688400-1774704600@lpsa.us
SUMMARY:Kids Easter Egg Hunt
DESCRIPTION:Saturday 3/28 at 1pm- Members Children 10 & Under!! \nYouth Program is BACK!!!! 3/28 from 9am-Noon- All AGES WELCOME!!!!
URL:https://lpsa.us/event/kids-easter-egg-hunt-4/
END:VEVENT
BEGIN:VEVENT
DTSTART;TZID=America/New_York:20260330T130000
DTEND;TZID=America/New_York:20260330T130000
DTSTAMP:20260424T135312
CREATED:20260128T153051Z
LAST-MODIFIED:20260128T153051Z
UID:3616-1774875600-1774875600@lpsa.us
SUMMARY:Free Pool Night
DESCRIPTION:
URL:https://lpsa.us/event/free-pool-night-161/
END:VEVENT
END:VCALENDAR