BEGIN:VCALENDAR
VERSION:2.0
PRODID:-//Lower Pottsgrove Sportsman&#039;s Association - ECPv6.15.13//NONSGML v1.0//EN
CALSCALE:GREGORIAN
METHOD:PUBLISH
X-WR-CALNAME:Lower Pottsgrove Sportsman&#039;s Association
X-ORIGINAL-URL:https://lpsa.us
X-WR-CALDESC:Events for Lower Pottsgrove Sportsman&#039;s Association
REFRESH-INTERVAL;VALUE=DURATION:PT1H
X-Robots-Tag:noindex
X-PUBLISHED-TTL:PT1H
BEGIN:VTIMEZONE
TZID:America/New_York
BEGIN:DAYLIGHT
TZOFFSETFROM:-0500
TZOFFSETTO:-0400
TZNAME:EDT
DTSTART:20210314T070000
END:DAYLIGHT
BEGIN:STANDARD
TZOFFSETFROM:-0400
TZOFFSETTO:-0500
TZNAME:EST
DTSTART:20211107T060000
END:STANDARD
BEGIN:DAYLIGHT
TZOFFSETFROM:-0500
TZOFFSETTO:-0400
TZNAME:EDT
DTSTART:20220313T070000
END:DAYLIGHT
BEGIN:STANDARD
TZOFFSETFROM:-0400
TZOFFSETTO:-0500
TZNAME:EST
DTSTART:20221106T060000
END:STANDARD
BEGIN:DAYLIGHT
TZOFFSETFROM:-0500
TZOFFSETTO:-0400
TZNAME:EDT
DTSTART:20230312T070000
END:DAYLIGHT
BEGIN:STANDARD
TZOFFSETFROM:-0400
TZOFFSETTO:-0500
TZNAME:EST
DTSTART:20231105T060000
END:STANDARD
BEGIN:DAYLIGHT
TZOFFSETFROM:-0500
TZOFFSETTO:-0400
TZNAME:EDT
DTSTART:20240310T070000
END:DAYLIGHT
BEGIN:STANDARD
TZOFFSETFROM:-0400
TZOFFSETTO:-0500
TZNAME:EST
DTSTART:20241103T060000
END:STANDARD
END:VTIMEZONE
BEGIN:VTIMEZONE
TZID:UTC
BEGIN:STANDARD
TZOFFSETFROM:+0000
TZOFFSETTO:+0000
TZNAME:UTC
DTSTART:20210101T000000
END:STANDARD
END:VTIMEZONE
BEGIN:VEVENT
DTSTART;TZID=America/New_York:20230213T190000
DTEND;TZID=America/New_York:20230213T200000
DTSTAMP:20260422T120908
CREATED:20230216T021228Z
LAST-MODIFIED:20230216T021228Z
UID:2405-1676314800-1676318400@lpsa.us
SUMMARY:Officers Meeting
DESCRIPTION:
URL:https://lpsa.us/event/officers-meeting/
LOCATION:Lower Pottsgrove Sportsman’s Association\, 2121 Sanatoga Station Rd\, Pottstown\, PA\, 19464\, United States
END:VEVENT
BEGIN:VEVENT
DTSTART;TZID=America/New_York:20230212T150000
DTEND;TZID=America/New_York:20230212T200000
DTSTAMP:20260422T120908
CREATED:20230128T013421Z
LAST-MODIFIED:20230128T013421Z
UID:1620-1676214000-1676232000@lpsa.us
SUMMARY:Super Bowl Party
DESCRIPTION:
URL:https://lpsa.us/event/super-bowl-party/
LOCATION:Lower Pottsgrove Sportsman’s Association\, 2121 Sanatoga Station Rd\, Pottstown\, PA\, 19464\, United States
END:VEVENT
BEGIN:VEVENT
DTSTART;TZID=America/New_York:20230211T180000
DTEND;TZID=America/New_York:20230211T220000
DTSTAMP:20260422T120908
CREATED:20230128T013349Z
LAST-MODIFIED:20230128T013349Z
UID:1618-1676138400-1676152800@lpsa.us
SUMMARY:Valentines Night
DESCRIPTION:Valentines night with music by Troy!  Josh will be making your favorite drinks!
URL:https://lpsa.us/event/valentines-night/
LOCATION:Lower Pottsgrove Sportsman’s Association\, 2121 Sanatoga Station Rd\, Pottstown\, PA\, 19464\, United States
END:VEVENT
BEGIN:VEVENT
DTSTART;TZID=America/New_York:20230208T160000
DTEND;TZID=America/New_York:20230208T200000
DTSTAMP:20260422T120908
CREATED:20230128T013242Z
LAST-MODIFIED:20230128T013242Z
UID:1616-1675872000-1675886400@lpsa.us
SUMMARY:Wing Night
DESCRIPTION:
URL:https://lpsa.us/event/wing-night/
LOCATION:Lower Pottsgrove Sportsman’s Association\, 2121 Sanatoga Station Rd\, Pottstown\, PA\, 19464\, United States
END:VEVENT
BEGIN:VEVENT
DTSTART;VALUE=DATE:20230205
DTEND;VALUE=DATE:20230206
DTSTAMP:20260422T120908
CREATED:20230128T013202Z
LAST-MODIFIED:20230128T013202Z
UID:1614-1675555200-1675641599@lpsa.us
SUMMARY:Pistol Shoot
DESCRIPTION:
URL:https://lpsa.us/event/pistol-shoot/
LOCATION:Lower Pottsgrove Sportsman’s Association\, 2121 Sanatoga Station Rd\, Pottstown\, PA\, 19464\, United States
END:VEVENT
BEGIN:VEVENT
DTSTART;TZID=America/New_York:20230201T170000
DTEND;TZID=America/New_York:20230201T193000
DTSTAMP:20260422T120908
CREATED:20230128T013133Z
LAST-MODIFIED:20230220T184713Z
UID:1612-1675270800-1675279800@lpsa.us
SUMMARY:Basket Night
DESCRIPTION:
URL:https://lpsa.us/event/burger-night/
LOCATION:Lower Pottsgrove Sportsman’s Association\, 2121 Sanatoga Station Rd\, Pottstown\, PA\, 19464\, United States
END:VEVENT
BEGIN:VEVENT
DTSTART;TZID=America/New_York:20230129T150000
DTEND;TZID=America/New_York:20230129T200000
DTSTAMP:20260422T120908
CREATED:20230128T013045Z
LAST-MODIFIED:20230128T013045Z
UID:1610-1675004400-1675022400@lpsa.us
SUMMARY:Eagles Game
DESCRIPTION:
URL:https://lpsa.us/event/eagles-game/
LOCATION:Lower Pottsgrove Sportsman’s Association\, 2121 Sanatoga Station Rd\, Pottstown\, PA\, 19464\, United States
END:VEVENT
BEGIN:VEVENT
DTSTART;TZID=UTC:20221020T080000
DTEND;TZID=UTC:20221020T170000
DTSTAMP:20260422T120908
CREATED:20220825T003343Z
LAST-MODIFIED:20220825T003343Z
UID:1211-1666252800-1666285200@lpsa.us
SUMMARY:Trap Shoot
DESCRIPTION:Trap Shoot
URL:https://lpsa.us/event/trap-shoot/
LOCATION:Lower Pottsgrove Sportsman’s Association\, 2121 Sanatoga Station Rd\, Pottstown\, PA\, 19464\, United States
ATTACH;FMTTYPE=image/jpeg:https://lpsa.us/wp-content/uploads/2022/10/MG_1504.jpg
END:VEVENT
BEGIN:VEVENT
DTSTART;TZID=UTC:20221019T080000
DTEND;TZID=UTC:20221019T170000
DTSTAMP:20260422T120909
CREATED:20220825T003324Z
LAST-MODIFIED:20220825T003324Z
UID:1209-1666166400-1666198800@lpsa.us
SUMMARY:Free Pool Night
DESCRIPTION:Free Pool Night
URL:https://lpsa.us/event/free-pool-night/
LOCATION:Lower Pottsgrove Sportsman’s Association\, 2121 Sanatoga Station Rd\, Pottstown\, PA\, 19464\, United States
ATTACH;FMTTYPE=image/jpeg:https://lpsa.us/wp-content/uploads/2022/08/pool-table.jpg
END:VEVENT
BEGIN:VEVENT
DTSTART;TZID=UTC:20221019T080000
DTEND;TZID=UTC:20221019T170000
DTSTAMP:20260422T120909
CREATED:20220825T003324Z
LAST-MODIFIED:20220825T003324Z
UID:1570-1666166400-1666198800@lpsa.us
SUMMARY:Free Pool Night
DESCRIPTION:Free Pool Night
URL:https://lpsa.us/event/free-pool-night-2/
LOCATION:Lower Pottsgrove Sportsman’s Association\, 2121 Sanatoga Station Rd\, Pottstown\, PA\, 19464\, United States
ATTACH;FMTTYPE=image/jpeg:https://lpsa.us/wp-content/uploads/2022/08/pool-table.jpg
END:VEVENT
BEGIN:VEVENT
DTSTART;TZID=America/New_York:20221011T193000
DTEND;TZID=America/New_York:20221011T203000
DTSTAMP:20260422T120909
CREATED:20220922T192621Z
LAST-MODIFIED:20220922T192621Z
UID:1573-1665516600-1665520200@lpsa.us
SUMMARY:Members Meeting
DESCRIPTION:
URL:https://lpsa.us/event/members-meeting-2/
LOCATION:Lower Pottsgrove Sportsman’s Association\, 2121 Sanatoga Station Rd\, Pottstown\, PA\, 19464\, United States
ATTACH;FMTTYPE=image/jpeg:https://lpsa.us/wp-content/uploads/2022/10/MG_1459.jpg
END:VEVENT
BEGIN:VEVENT
DTSTART;TZID=America/New_York:20221011T193000
DTEND;TZID=America/New_York:20221011T203000
DTSTAMP:20260422T120909
CREATED:20220922T192621Z
LAST-MODIFIED:20220922T192621Z
UID:1432-1665516600-1665520200@lpsa.us
SUMMARY:Members Meeting
DESCRIPTION:
URL:https://lpsa.us/event/members-meeting/
LOCATION:Lower Pottsgrove Sportsman’s Association\, 2121 Sanatoga Station Rd\, Pottstown\, PA\, 19464\, United States
ATTACH;FMTTYPE=image/jpeg:https://lpsa.us/wp-content/uploads/2022/10/MG_1459.jpg
END:VEVENT
BEGIN:VEVENT
DTSTART;TZID=UTC:20221006T080000
DTEND;TZID=UTC:20221006T170000
DTSTAMP:20260422T120909
CREATED:20220825T003418Z
LAST-MODIFIED:20220825T003418Z
UID:1572-1665043200-1665075600@lpsa.us
SUMMARY:Trap Shoot
DESCRIPTION:Trap Shoot
URL:https://lpsa.us/event/trap-shoot-2-2/
LOCATION:Lower Pottsgrove Sportsman’s Association\, 2121 Sanatoga Station Rd\, Pottstown\, PA\, 19464\, United States
ATTACH;FMTTYPE=image/jpeg:https://lpsa.us/wp-content/uploads/2022/10/MG_1504.jpg
END:VEVENT
BEGIN:VEVENT
DTSTART;TZID=UTC:20221006T080000
DTEND;TZID=UTC:20221006T170000
DTSTAMP:20260422T120909
CREATED:20220825T003418Z
LAST-MODIFIED:20220825T003418Z
UID:1213-1665043200-1665075600@lpsa.us
SUMMARY:Trap Shoot
DESCRIPTION:Trap Shoot
URL:https://lpsa.us/event/trap-shoot-2/
LOCATION:Lower Pottsgrove Sportsman’s Association\, 2121 Sanatoga Station Rd\, Pottstown\, PA\, 19464\, United States
ATTACH;FMTTYPE=image/jpeg:https://lpsa.us/wp-content/uploads/2022/10/MG_1504.jpg
END:VEVENT
END:VCALENDAR