BEGIN:VCALENDAR
VERSION:2.0
PRODID:-//Lower Pottsgrove Sportsman&#039;s Association - ECPv6.15.13//NONSGML v1.0//EN
CALSCALE:GREGORIAN
METHOD:PUBLISH
X-WR-CALNAME:Lower Pottsgrove Sportsman&#039;s Association
X-ORIGINAL-URL:https://lpsa.us
X-WR-CALDESC:Events for Lower Pottsgrove Sportsman&#039;s Association
REFRESH-INTERVAL;VALUE=DURATION:PT1H
X-Robots-Tag:noindex
X-PUBLISHED-TTL:PT1H
BEGIN:VTIMEZONE
TZID:America/New_York
BEGIN:DAYLIGHT
TZOFFSETFROM:-0500
TZOFFSETTO:-0400
TZNAME:EDT
DTSTART:20250309T070000
END:DAYLIGHT
BEGIN:STANDARD
TZOFFSETFROM:-0400
TZOFFSETTO:-0500
TZNAME:EST
DTSTART:20251102T060000
END:STANDARD
BEGIN:DAYLIGHT
TZOFFSETFROM:-0500
TZOFFSETTO:-0400
TZNAME:EDT
DTSTART:20260308T070000
END:DAYLIGHT
BEGIN:STANDARD
TZOFFSETFROM:-0400
TZOFFSETTO:-0500
TZNAME:EST
DTSTART:20261101T060000
END:STANDARD
BEGIN:DAYLIGHT
TZOFFSETFROM:-0500
TZOFFSETTO:-0400
TZNAME:EDT
DTSTART:20270314T070000
END:DAYLIGHT
BEGIN:STANDARD
TZOFFSETFROM:-0400
TZOFFSETTO:-0500
TZNAME:EST
DTSTART:20271107T060000
END:STANDARD
END:VTIMEZONE
BEGIN:VEVENT
DTSTART;TZID=America/New_York:20260910T170000
DTEND;TZID=America/New_York:20260910T170000
DTSTAMP:20260419T174702
CREATED:20260128T154552Z
LAST-MODIFIED:20260128T154552Z
UID:3692-1789059600-1789059600@lpsa.us
SUMMARY:Trap Shoot
DESCRIPTION:
URL:https://lpsa.us/event/trap-shoot-184/
END:VEVENT
BEGIN:VEVENT
DTSTART;TZID=America/New_York:20260912T080000
DTEND;TZID=America/New_York:20260912T120000
DTSTAMP:20260419T174702
CREATED:20260128T152452Z
LAST-MODIFIED:20260128T152452Z
UID:3588-1789200000-1789214400@lpsa.us
SUMMARY:Work Party and Range Tour
DESCRIPTION:
URL:https://lpsa.us/event/work-party-and-range-tour-42/
END:VEVENT
BEGIN:VEVENT
DTSTART;TZID=America/New_York:20260914T130000
DTEND;TZID=America/New_York:20260914T130000
DTSTAMP:20260419T174702
CREATED:20260128T153551Z
LAST-MODIFIED:20260128T153551Z
UID:3640-1789390800-1789390800@lpsa.us
SUMMARY:Free Pool Night
DESCRIPTION:
URL:https://lpsa.us/event/free-pool-night-185/
END:VEVENT
BEGIN:VEVENT
DTSTART;TZID=America/New_York:20260914T190000
DTEND;TZID=America/New_York:20260914T190000
DTSTAMP:20260419T174702
CREATED:20260128T155827Z
LAST-MODIFIED:20260128T155827Z
UID:3729-1789412400-1789412400@lpsa.us
SUMMARY:Officers Meeting
DESCRIPTION:
URL:https://lpsa.us/event/officers-meeting-31/
END:VEVENT
BEGIN:VEVENT
DTSTART;TZID=America/New_York:20260915T193000
DTEND;TZID=America/New_York:20260915T193000
DTSTAMP:20260419T174702
CREATED:20260128T155254Z
LAST-MODIFIED:20260128T155254Z
UID:3717-1789500600-1789500600@lpsa.us
SUMMARY:General Membership Meeting
DESCRIPTION:Monthly general membership meeting will start at 7:30pm. You must be an active member or have an application in for membership to attend meeting.
URL:https://lpsa.us/event/general-membership-meeting-42/
END:VEVENT
BEGIN:VEVENT
DTSTART;TZID=America/New_York:20260917T170000
DTEND;TZID=America/New_York:20260917T170000
DTSTAMP:20260419T174702
CREATED:20260128T154552Z
LAST-MODIFIED:20260128T154552Z
UID:3693-1789664400-1789664400@lpsa.us
SUMMARY:Trap Shoot
DESCRIPTION:
URL:https://lpsa.us/event/trap-shoot-185/
END:VEVENT
BEGIN:VEVENT
DTSTART;TZID=America/New_York:20260921T130000
DTEND;TZID=America/New_York:20260921T130000
DTSTAMP:20260419T174702
CREATED:20260128T153552Z
LAST-MODIFIED:20260128T153552Z
UID:3641-1789995600-1789995600@lpsa.us
SUMMARY:Free Pool Night
DESCRIPTION:
URL:https://lpsa.us/event/free-pool-night-186/
END:VEVENT
BEGIN:VEVENT
DTSTART;TZID=America/New_York:20260924T170000
DTEND;TZID=America/New_York:20260924T170000
DTSTAMP:20260419T174702
CREATED:20260128T154552Z
LAST-MODIFIED:20260128T154552Z
UID:3694-1790269200-1790269200@lpsa.us
SUMMARY:Trap Shoot
DESCRIPTION:
URL:https://lpsa.us/event/trap-shoot-186/
END:VEVENT
BEGIN:VEVENT
DTSTART;TZID=America/New_York:20260926T080000
DTEND;TZID=America/New_York:20260926T153000
DTSTAMP:20260419T174702
CREATED:20260121T014911Z
LAST-MODIFIED:20260204T014939Z
UID:3556-1790409600-1790436600@lpsa.us
SUMMARY:Pennsylvania Hunter Trapper Education (Hunter Safety)
DESCRIPTION:All are welcome to register.  You do not need to be a member to attend. \nMust be 11 years old\, turning 12 during the license year ending June 2026.\nPreregistration is required. Link to register: https://www.register-ed.com/events/view/241023\n\nLunch will be provided.  Hot dogs\, chips\, & soda.  Donation basis to help defray the cost of food.\n\nMust read 4 chapters online at your leisure\, Chapters 1\, 4\, 5\, and 9.\nChapters can be found on any class calendar page.  At the top of the page click on today’s hunter & trapper in Pa.  Only do chapters 1\, 4\, 5\, and 9 and all that pop up under those chapters.\n\nParents if you are staying with your child\, consider registering\, it will be an experience that you won’t forget.\nCan’t make the Class? We have other dates available!!\n 
URL:https://lpsa.us/event/pennsylvania-hunter-trapper-education-hunter-safety-9/
LOCATION:Lower Pottsgrove Sportsman’s Association\, 2121 Sanatoga Station Rd\, Pottstown\, PA\, 19464\, United States
END:VEVENT
BEGIN:VEVENT
DTSTART;TZID=America/New_York:20260928T130000
DTEND;TZID=America/New_York:20260928T130000
DTSTAMP:20260419T174702
CREATED:20260128T153552Z
LAST-MODIFIED:20260128T153552Z
UID:3642-1790600400-1790600400@lpsa.us
SUMMARY:Free Pool Night
DESCRIPTION:
URL:https://lpsa.us/event/free-pool-night-187/
END:VEVENT
BEGIN:VEVENT
DTSTART;TZID=America/New_York:20261001T170000
DTEND;TZID=America/New_York:20261001T170000
DTSTAMP:20260419T174702
CREATED:20260128T154651Z
LAST-MODIFIED:20260128T154651Z
UID:3695-1790874000-1790874000@lpsa.us
SUMMARY:Trap Shoot
DESCRIPTION:
URL:https://lpsa.us/event/trap-shoot-187/
END:VEVENT
BEGIN:VEVENT
DTSTART;TZID=America/New_York:20261004T110000
DTEND;TZID=America/New_York:20261004T110000
DTSTAMP:20260419T174702
CREATED:20260128T152751Z
LAST-MODIFIED:20260128T152751Z
UID:3601-1791111600-1791111600@lpsa.us
SUMMARY:Pistol Shoot
DESCRIPTION:Sign-ups start at 10:30\, shoot begins at 11
URL:https://lpsa.us/event/pistol-shoot-44/
END:VEVENT
BEGIN:VEVENT
DTSTART;TZID=America/New_York:20261005T130000
DTEND;TZID=America/New_York:20261005T130000
DTSTAMP:20260419T174702
CREATED:20260128T153552Z
LAST-MODIFIED:20260128T153552Z
UID:3643-1791205200-1791205200@lpsa.us
SUMMARY:Free Pool Night
DESCRIPTION:
URL:https://lpsa.us/event/free-pool-night-188/
END:VEVENT
BEGIN:VEVENT
DTSTART;TZID=America/New_York:20261008T170000
DTEND;TZID=America/New_York:20261008T170000
DTSTAMP:20260419T174702
CREATED:20260128T154651Z
LAST-MODIFIED:20260128T154651Z
UID:3696-1791478800-1791478800@lpsa.us
SUMMARY:Trap Shoot
DESCRIPTION:
URL:https://lpsa.us/event/trap-shoot-188/
END:VEVENT
BEGIN:VEVENT
DTSTART;TZID=America/New_York:20261010T080000
DTEND;TZID=America/New_York:20261010T120000
DTSTAMP:20260419T174702
CREATED:20260128T152452Z
LAST-MODIFIED:20260128T152452Z
UID:3589-1791619200-1791633600@lpsa.us
SUMMARY:Work Party and Range Tour
DESCRIPTION:
URL:https://lpsa.us/event/work-party-and-range-tour-43/
END:VEVENT
BEGIN:VEVENT
DTSTART;TZID=America/New_York:20261012T130000
DTEND;TZID=America/New_York:20261012T130000
DTSTAMP:20260419T174702
CREATED:20260128T153552Z
LAST-MODIFIED:20260128T153552Z
UID:3644-1791810000-1791810000@lpsa.us
SUMMARY:Free Pool Night
DESCRIPTION:
URL:https://lpsa.us/event/free-pool-night-189/
END:VEVENT
BEGIN:VEVENT
DTSTART;TZID=America/New_York:20261012T190000
DTEND;TZID=America/New_York:20261012T190000
DTSTAMP:20260419T174702
CREATED:20260128T155927Z
LAST-MODIFIED:20260128T155927Z
UID:3730-1791831600-1791831600@lpsa.us
SUMMARY:Officers Meeting
DESCRIPTION:
URL:https://lpsa.us/event/officers-meeting-32/
END:VEVENT
BEGIN:VEVENT
DTSTART;TZID=America/New_York:20261013T193000
DTEND;TZID=America/New_York:20261013T193000
DTSTAMP:20260419T174702
CREATED:20260128T155254Z
LAST-MODIFIED:20260128T155254Z
UID:3718-1791919800-1791919800@lpsa.us
SUMMARY:General Membership Meeting
DESCRIPTION:Monthly general membership meeting will start at 7:30pm. You must be an active member or have an application in for membership to attend meeting.
URL:https://lpsa.us/event/general-membership-meeting-43/
END:VEVENT
BEGIN:VEVENT
DTSTART;TZID=America/New_York:20261015T170000
DTEND;TZID=America/New_York:20261015T170000
DTSTAMP:20260419T174702
CREATED:20260128T154652Z
LAST-MODIFIED:20260128T154652Z
UID:3697-1792083600-1792083600@lpsa.us
SUMMARY:Trap Shoot
DESCRIPTION:
URL:https://lpsa.us/event/trap-shoot-189/
END:VEVENT
BEGIN:VEVENT
DTSTART;TZID=America/New_York:20261019T130000
DTEND;TZID=America/New_York:20261019T130000
DTSTAMP:20260419T174702
CREATED:20260128T153651Z
LAST-MODIFIED:20260128T153651Z
UID:3645-1792414800-1792414800@lpsa.us
SUMMARY:Free Pool Night
DESCRIPTION:
URL:https://lpsa.us/event/free-pool-night-190/
END:VEVENT
BEGIN:VEVENT
DTSTART;TZID=America/New_York:20261022T170000
DTEND;TZID=America/New_York:20261022T170000
DTSTAMP:20260419T174702
CREATED:20260128T154652Z
LAST-MODIFIED:20260128T154652Z
UID:3698-1792688400-1792688400@lpsa.us
SUMMARY:Trap Shoot
DESCRIPTION:
URL:https://lpsa.us/event/trap-shoot-190/
END:VEVENT
BEGIN:VEVENT
DTSTART;TZID=America/New_York:20261026T130000
DTEND;TZID=America/New_York:20261026T130000
DTSTAMP:20260419T174702
CREATED:20260128T153651Z
LAST-MODIFIED:20260128T153651Z
UID:3646-1793019600-1793019600@lpsa.us
SUMMARY:Free Pool Night
DESCRIPTION:
URL:https://lpsa.us/event/free-pool-night-191/
END:VEVENT
BEGIN:VEVENT
DTSTART;TZID=America/New_York:20261029T170000
DTEND;TZID=America/New_York:20261029T170000
DTSTAMP:20260419T174702
CREATED:20260128T154653Z
LAST-MODIFIED:20260128T154653Z
UID:3699-1793293200-1793293200@lpsa.us
SUMMARY:Trap Shoot
DESCRIPTION:
URL:https://lpsa.us/event/trap-shoot-191/
END:VEVENT
BEGIN:VEVENT
DTSTART;TZID=America/New_York:20261101T110000
DTEND;TZID=America/New_York:20261101T110000
DTSTAMP:20260419T174702
CREATED:20260128T152752Z
LAST-MODIFIED:20260128T152752Z
UID:3602-1793530800-1793530800@lpsa.us
SUMMARY:Pistol Shoot
DESCRIPTION:Sign-ups start at 10:30\, shoot begins at 11
URL:https://lpsa.us/event/pistol-shoot-45/
END:VEVENT
BEGIN:VEVENT
DTSTART;TZID=America/New_York:20261102T130000
DTEND;TZID=America/New_York:20261102T130000
DTSTAMP:20260419T174702
CREATED:20260128T153652Z
LAST-MODIFIED:20260128T153652Z
UID:3647-1793624400-1793624400@lpsa.us
SUMMARY:Free Pool Night
DESCRIPTION:
URL:https://lpsa.us/event/free-pool-night-192/
END:VEVENT
BEGIN:VEVENT
DTSTART;TZID=America/New_York:20261105T170000
DTEND;TZID=America/New_York:20261105T170000
DTSTAMP:20260419T174702
CREATED:20260128T154751Z
LAST-MODIFIED:20260128T154751Z
UID:3700-1793898000-1793898000@lpsa.us
SUMMARY:Trap Shoot
DESCRIPTION:
URL:https://lpsa.us/event/trap-shoot-192/
END:VEVENT
BEGIN:VEVENT
DTSTART;TZID=America/New_York:20261109T130000
DTEND;TZID=America/New_York:20261109T130000
DTSTAMP:20260419T174702
CREATED:20260128T153652Z
LAST-MODIFIED:20260128T153652Z
UID:3648-1794229200-1794229200@lpsa.us
SUMMARY:Free Pool Night
DESCRIPTION:
URL:https://lpsa.us/event/free-pool-night-193/
END:VEVENT
BEGIN:VEVENT
DTSTART;TZID=America/New_York:20261109T190000
DTEND;TZID=America/New_York:20261109T190000
DTSTAMP:20260419T174702
CREATED:20260128T155927Z
LAST-MODIFIED:20260128T155927Z
UID:3731-1794250800-1794250800@lpsa.us
SUMMARY:Officers Meeting
DESCRIPTION:
URL:https://lpsa.us/event/officers-meeting-33/
END:VEVENT
BEGIN:VEVENT
DTSTART;TZID=America/New_York:20261110T193000
DTEND;TZID=America/New_York:20261110T193000
DTSTAMP:20260419T174702
CREATED:20260128T155255Z
LAST-MODIFIED:20260128T155255Z
UID:3719-1794339000-1794339000@lpsa.us
SUMMARY:General Membership Meeting
DESCRIPTION:Monthly general membership meeting will start at 7:30pm. You must be an active member or have an application in for membership to attend meeting.
URL:https://lpsa.us/event/general-membership-meeting-44/
END:VEVENT
BEGIN:VEVENT
DTSTART;TZID=America/New_York:20261112T170000
DTEND;TZID=America/New_York:20261112T170000
DTSTAMP:20260419T174702
CREATED:20260128T154752Z
LAST-MODIFIED:20260128T154752Z
UID:3701-1794502800-1794502800@lpsa.us
SUMMARY:Trap Shoot
DESCRIPTION:
URL:https://lpsa.us/event/trap-shoot-193/
END:VEVENT
BEGIN:VEVENT
DTSTART;TZID=America/New_York:20261114T080000
DTEND;TZID=America/New_York:20261114T120000
DTSTAMP:20260419T174702
CREATED:20260128T152551Z
LAST-MODIFIED:20260128T152551Z
UID:3590-1794643200-1794657600@lpsa.us
SUMMARY:Work Party and Range Tour
DESCRIPTION:
URL:https://lpsa.us/event/work-party-and-range-tour-44/
END:VEVENT
BEGIN:VEVENT
DTSTART;TZID=America/New_York:20261116T130000
DTEND;TZID=America/New_York:20261116T130000
DTSTAMP:20260419T174702
CREATED:20260128T153652Z
LAST-MODIFIED:20260128T153652Z
UID:3649-1794834000-1794834000@lpsa.us
SUMMARY:Free Pool Night
DESCRIPTION:
URL:https://lpsa.us/event/free-pool-night-194/
END:VEVENT
BEGIN:VEVENT
DTSTART;TZID=America/New_York:20261119T170000
DTEND;TZID=America/New_York:20261119T170000
DTSTAMP:20260419T174702
CREATED:20260128T154752Z
LAST-MODIFIED:20260128T154752Z
UID:3702-1795107600-1795107600@lpsa.us
SUMMARY:Trap Shoot
DESCRIPTION:
URL:https://lpsa.us/event/trap-shoot-194/
END:VEVENT
BEGIN:VEVENT
DTSTART;TZID=America/New_York:20261123T130000
DTEND;TZID=America/New_York:20261123T130000
DTSTAMP:20260419T174702
CREATED:20260128T153751Z
LAST-MODIFIED:20260128T153751Z
UID:3650-1795438800-1795438800@lpsa.us
SUMMARY:Free Pool Night
DESCRIPTION:
URL:https://lpsa.us/event/free-pool-night-195/
END:VEVENT
BEGIN:VEVENT
DTSTART;TZID=America/New_York:20261126T170000
DTEND;TZID=America/New_York:20261126T170000
DTSTAMP:20260419T174702
CREATED:20260128T154752Z
LAST-MODIFIED:20260128T154752Z
UID:3703-1795712400-1795712400@lpsa.us
SUMMARY:Trap Shoot
DESCRIPTION:
URL:https://lpsa.us/event/trap-shoot-195/
END:VEVENT
BEGIN:VEVENT
DTSTART;TZID=America/New_York:20261130T130000
DTEND;TZID=America/New_York:20261130T130000
DTSTAMP:20260419T174702
CREATED:20260128T153751Z
LAST-MODIFIED:20260128T153751Z
UID:3651-1796043600-1796043600@lpsa.us
SUMMARY:Free Pool Night
DESCRIPTION:
URL:https://lpsa.us/event/free-pool-night-196/
END:VEVENT
BEGIN:VEVENT
DTSTART;TZID=America/New_York:20261203T170000
DTEND;TZID=America/New_York:20261203T170000
DTSTAMP:20260419T174702
CREATED:20260128T154752Z
LAST-MODIFIED:20260128T154752Z
UID:3704-1796317200-1796317200@lpsa.us
SUMMARY:Trap Shoot
DESCRIPTION:
URL:https://lpsa.us/event/trap-shoot-196/
END:VEVENT
BEGIN:VEVENT
DTSTART;TZID=America/New_York:20261206T110000
DTEND;TZID=America/New_York:20261206T110000
DTSTAMP:20260419T174702
CREATED:20260128T152752Z
LAST-MODIFIED:20260128T152752Z
UID:3603-1796554800-1796554800@lpsa.us
SUMMARY:Pistol Shoot
DESCRIPTION:Sign-ups start at 10:30\, shoot begins at 11
URL:https://lpsa.us/event/pistol-shoot-46/
END:VEVENT
BEGIN:VEVENT
DTSTART;TZID=America/New_York:20261207T130000
DTEND;TZID=America/New_York:20261207T130000
DTSTAMP:20260419T174702
CREATED:20260128T153752Z
LAST-MODIFIED:20260128T153752Z
UID:3652-1796648400-1796648400@lpsa.us
SUMMARY:Free Pool Night
DESCRIPTION:
URL:https://lpsa.us/event/free-pool-night-197/
END:VEVENT
BEGIN:VEVENT
DTSTART;TZID=America/New_York:20261210T170000
DTEND;TZID=America/New_York:20261210T170000
DTSTAMP:20260419T174702
CREATED:20260128T154852Z
LAST-MODIFIED:20260128T154852Z
UID:3705-1796922000-1796922000@lpsa.us
SUMMARY:Trap Shoot
DESCRIPTION:
URL:https://lpsa.us/event/trap-shoot-197/
END:VEVENT
BEGIN:VEVENT
DTSTART;TZID=America/New_York:20261212T080000
DTEND;TZID=America/New_York:20261212T120000
DTSTAMP:20260419T174702
CREATED:20260128T152551Z
LAST-MODIFIED:20260128T152551Z
UID:3591-1797062400-1797076800@lpsa.us
SUMMARY:Work Party and Range Tour
DESCRIPTION:
URL:https://lpsa.us/event/work-party-and-range-tour-45/
END:VEVENT
BEGIN:VEVENT
DTSTART;TZID=America/New_York:20261214T130000
DTEND;TZID=America/New_York:20261214T130000
DTSTAMP:20260419T174702
CREATED:20260128T153752Z
LAST-MODIFIED:20260128T153752Z
UID:3653-1797253200-1797253200@lpsa.us
SUMMARY:Free Pool Night
DESCRIPTION:
URL:https://lpsa.us/event/free-pool-night-198/
END:VEVENT
BEGIN:VEVENT
DTSTART;TZID=America/New_York:20261214T190000
DTEND;TZID=America/New_York:20261214T190000
DTSTAMP:20260419T174702
CREATED:20260128T155927Z
LAST-MODIFIED:20260128T155927Z
UID:3732-1797274800-1797274800@lpsa.us
SUMMARY:Officers Meeting
DESCRIPTION:
URL:https://lpsa.us/event/officers-meeting-34/
END:VEVENT
BEGIN:VEVENT
DTSTART;TZID=America/New_York:20261215T193000
DTEND;TZID=America/New_York:20261215T193000
DTSTAMP:20260419T174702
CREATED:20260128T155727Z
LAST-MODIFIED:20260128T155727Z
UID:3720-1797363000-1797363000@lpsa.us
SUMMARY:General Membership Meeting
DESCRIPTION:Monthly general membership meeting will start at 7:30pm. You must be an active member or have an application in for membership to attend meeting.
URL:https://lpsa.us/event/general-membership-meeting-45/
END:VEVENT
BEGIN:VEVENT
DTSTART;TZID=America/New_York:20261217T170000
DTEND;TZID=America/New_York:20261217T170000
DTSTAMP:20260419T174702
CREATED:20260128T154852Z
LAST-MODIFIED:20260128T154852Z
UID:3706-1797526800-1797526800@lpsa.us
SUMMARY:Trap Shoot
DESCRIPTION:
URL:https://lpsa.us/event/trap-shoot-198/
END:VEVENT
BEGIN:VEVENT
DTSTART;TZID=America/New_York:20261221T130000
DTEND;TZID=America/New_York:20261221T130000
DTSTAMP:20260419T174702
CREATED:20260128T153752Z
LAST-MODIFIED:20260128T153752Z
UID:3654-1797858000-1797858000@lpsa.us
SUMMARY:Free Pool Night
DESCRIPTION:
URL:https://lpsa.us/event/free-pool-night-199/
END:VEVENT
BEGIN:VEVENT
DTSTART;TZID=America/New_York:20261224T170000
DTEND;TZID=America/New_York:20261224T170000
DTSTAMP:20260419T174702
CREATED:20260128T154852Z
LAST-MODIFIED:20260128T154852Z
UID:3707-1798131600-1798131600@lpsa.us
SUMMARY:Trap Shoot
DESCRIPTION:
URL:https://lpsa.us/event/trap-shoot-199/
END:VEVENT
BEGIN:VEVENT
DTSTART;TZID=America/New_York:20261228T130000
DTEND;TZID=America/New_York:20261228T130000
DTSTAMP:20260419T174702
CREATED:20260128T153851Z
LAST-MODIFIED:20260128T153851Z
UID:3655-1798462800-1798462800@lpsa.us
SUMMARY:Free Pool Night
DESCRIPTION:
URL:https://lpsa.us/event/free-pool-night-200/
END:VEVENT
BEGIN:VEVENT
DTSTART;TZID=America/New_York:20261231T170000
DTEND;TZID=America/New_York:20261231T170000
DTSTAMP:20260419T174702
CREATED:20260128T154853Z
LAST-MODIFIED:20260128T154853Z
UID:3708-1798736400-1798736400@lpsa.us
SUMMARY:Trap Shoot
DESCRIPTION:
URL:https://lpsa.us/event/trap-shoot-200/
END:VEVENT
END:VCALENDAR