BEGIN:VCALENDAR
VERSION:2.0
PRODID:-//Lower Pottsgrove Sportsman&#039;s Association - ECPv6.15.13//NONSGML v1.0//EN
CALSCALE:GREGORIAN
METHOD:PUBLISH
X-WR-CALNAME:Lower Pottsgrove Sportsman&#039;s Association
X-ORIGINAL-URL:https://lpsa.us
X-WR-CALDESC:Events for Lower Pottsgrove Sportsman&#039;s Association
REFRESH-INTERVAL;VALUE=DURATION:PT1H
X-Robots-Tag:noindex
X-PUBLISHED-TTL:PT1H
BEGIN:VTIMEZONE
TZID:America/New_York
BEGIN:DAYLIGHT
TZOFFSETFROM:-0500
TZOFFSETTO:-0400
TZNAME:EDT
DTSTART:20240310T070000
END:DAYLIGHT
BEGIN:STANDARD
TZOFFSETFROM:-0400
TZOFFSETTO:-0500
TZNAME:EST
DTSTART:20241103T060000
END:STANDARD
BEGIN:DAYLIGHT
TZOFFSETFROM:-0500
TZOFFSETTO:-0400
TZNAME:EDT
DTSTART:20250309T070000
END:DAYLIGHT
BEGIN:STANDARD
TZOFFSETFROM:-0400
TZOFFSETTO:-0500
TZNAME:EST
DTSTART:20251102T060000
END:STANDARD
BEGIN:DAYLIGHT
TZOFFSETFROM:-0500
TZOFFSETTO:-0400
TZNAME:EDT
DTSTART:20260308T070000
END:DAYLIGHT
BEGIN:STANDARD
TZOFFSETFROM:-0400
TZOFFSETTO:-0500
TZNAME:EST
DTSTART:20261101T060000
END:STANDARD
END:VTIMEZONE
BEGIN:VEVENT
DTSTART;TZID=America/New_York:20250416T180000
DTEND;TZID=America/New_York:20250416T210000
DTSTAMP:20260425T123117
CREATED:20250114T191706Z
LAST-MODIFIED:20250115T132739Z
UID:3287-1744826400-1744837200@lpsa.us
SUMMARY:Gun Safety And Handling Course
DESCRIPTION:The club has partnered with Dave Chang and his company\, Civilian Defense Concepts\, LLC along with our new member Anna Cousins to provide this Gun Safety And Handling Course. \nNew to the firearms world?  Need a refresher?\nCome spend a few hours with us to learn the rules of gun safety and some fundamental firearms handling skills that will get you on the range in no time.\nWe will cover topics like: \n\nFirearms Safety\nSafe Firearm storage\nConcealed Carry Permits\nLoading magazines\nAiming\nHold and stance\nAmmunition selection\nProper trigger press\n\nAnd more!\nYou do not need to own your own firearm.\nIf you have your own firearm\, please feel free to bring it.\nNO LIVE AMMO in the classroom.  This is a non shooting course. Range time will be set up individually with participants (if needed) as a separate class. \nDave is the lead instructor for Civilian Defense Concepts and brings over a quarter of a century of training experience to the table. He is currently an NRA Training Counselor (pistol\, rifle\, shotgun\, home firearms safety\, CCW)\, NRA Refuse to be a Victim instructor (crime prevention course)\, NRA Chief Range Safety Officer\, an NRA LE Certified Instructor (pistol\, patrol rifle\, and shotgun)\, Sig Sauer Academy Certified Semi-Auto Pistol Instructor and a graduate of their Master Pistol Instructor and Pistol Mounted Red Dot Optics Instructor programs. He is also a Taser\, Pepper Spray\, Munio Self Defense Keychain\, AVERT and ALERRT active shooter response instructor\, Mental Health First Aid Provider instructor\, First Aid/CPR/AED instructor\, and Advanced Bleeding Control/Stop the Bleed certified instructor.  He believes in a holistic approach to self defense and he will be bringing many of these programs to the club. \nYou can sign up for this class at: https://cdcllc.org/sign-up%2Fpay-for-classes/ols/products/new-firearms-ownergun-safety-seminar\nAt checkout: choose the “pickup” option NOT THE SHIPPING OPTION.  The payment link has specifics on course requirements.\n\nSee a list of all classes being offered at https://cdcllc.org/class-schedule-1 \nLPSA members will get a 20% discount when signing up for classes.  Check your email or reach out to Dave for the code. \nIf you have any questions\, please contact:\nDave Chang\n     Text (NO PHONE CALLS) 484-938-8828\n     E-mail: cdc123abc@gmail.com \nDave is the lead instructor for Civilian Defense Concepts and brings over a quarter of a century of training experience to the table. He is currently an NRA Training Counselor (pistol\, rifle\, shotgun\, home firearms safety\, CCW)\, NRA Refuse to be a Victim instructor (crime prevention course)\, NRA Chief Range Safety Officer\, an NRA LE Certified Instructor (pistol\, patrol rifle\, and shotgun)\, Sig Sauer Academy Certified Semi-Auto Pistol Instructor and a graduate of their Master Pistol Instructor and Pistol Mounted Red Dot Optics Instructor programs. He is also a Taser\, Pepper Spray\, Munio Self Defense Keychain\, AVERT and ALERRT active shooter response instructor\, Mental Health First Aid Provider instructor\, First Aid/CPR/AED instructor\, and Advanced Bleeding Control/Stop the Bleed certified instructor.  He believes in a holistic approach to self defense and he will be bringing many of these programs to the club.
URL:https://lpsa.us/event/gun-safety-and-handling-course-4/
LOCATION:Lower Pottsgrove Sportsman’s Association\, 2121 Sanatoga Station Rd\, Pottstown\, PA\, 19464\, United States
CATEGORIES:Training
END:VEVENT
BEGIN:VEVENT
DTSTART;TZID=America/New_York:20250330T080000
DTEND;TZID=America/New_York:20250330T170000
DTSTAMP:20260425T123117
CREATED:20250115T140655Z
LAST-MODIFIED:20250115T140655Z
UID:3380-1743321600-1743354000@lpsa.us
SUMMARY:NRA Range Safety Officer Certification
DESCRIPTION:The NRA Range Safety Officer program is for people who possess the knowledge\, skills\, and attitude essential to organizing\, conducting\, and supervising safe shooting activities and range operations. This is a classroom based course. \nCourse content consists of RSO’s roles and responsibilities\, range standard operating procedures\, range inspection and range rules\, firearm stoppages and malfunctions\, and Range Safety Briefings which include procedures to follow in the case of an emergency. \nRSO candidates must be 21 years of age. \nBring: Food\, drink\, writing utensils\, eyes and ear protection. No firearms required \nYou can sign up for this class at: https://cdcllc.org/sign-up%2Fpay-for-classes/ols/products/nra-range-safety-officer-certification/v/RSO-03-30\nAt checkout: choose the “pickup” option NOT THE SHIPPING OPTION.  The payment link has specifics on course requirements.\n\nSee a list of all classes being offered at https://cdcllc.org/class-schedule-1 \nLPSA members will get a 20% discount when signing up for classes.  Check your email or reach out to Dave for the code. \nIf you have any questions\, please contact:\nDave Chang\n     Text (NO PHONE CALLS) 484-938-8828\n     E-mail: cdc123abc@gmail.com \nDave is the lead instructor for Civilian Defense Concepts and brings over a quarter of a century of training experience to the table. He is currently an NRA Training Counselor (pistol\, rifle\, shotgun\, home firearms safety\, CCW)\, NRA Refuse to be a Victim instructor (crime prevention course)\, NRA Chief Range Safety Officer\, an NRA LE Certified Instructor (pistol\, patrol rifle\, and shotgun)\, Sig Sauer Academy Certified Semi-Auto Pistol Instructor and a graduate of their Master Pistol Instructor and Pistol Mounted Red Dot Optics Instructor programs. He is also a Taser\, Pepper Spray\, Munio Self Defense Keychain\, AVERT and ALERRT active shooter response instructor\, Mental Health First Aid Provider instructor\, First Aid/CPR/AED instructor\, and Advanced Bleeding Control/Stop the Bleed certified instructor.  He believes in a holistic approach to self defense and he will be bringing many of these programs to the club.
URL:https://lpsa.us/event/nra-range-safety-officer-certification/
LOCATION:Lower Pottsgrove Sportsman’s Association\, 2121 Sanatoga Station Rd\, Pottstown\, PA\, 19464\, United States
CATEGORIES:Training
END:VEVENT
BEGIN:VEVENT
DTSTART;TZID=America/New_York:20250323T130000
DTEND;TZID=America/New_York:20250323T170000
DTSTAMP:20260425T123117
CREATED:20250115T130449Z
LAST-MODIFIED:20250115T132517Z
UID:3344-1742734800-1742749200@lpsa.us
SUMMARY:Defensive Pistol 101 (DP101)
DESCRIPTION:Defensive Pistol 101 starts with a draw clinic. You will learn a proper and safe draw and holster method. You will learn defensive shooting theory and techniques and will develop your ability to operate your firearm under stress with stress inoculation drills. Please bring a cover garment as we will be working with “Concealed carry”\, as well. \nBoth revolvers and semi-autos can be used in the course. There is a recommended amount of ammo needed for the course. HOWEVER\, due to current cost and/or availability\, bring what you can afford to shoot. The important thing is the repetitions of the motions and not making the gun go “Bang”. \nPrerequisite: Must have a working knowledge of loading\, unloading\, and shooting your firearm.  This is not a class for you if you have never shot your gun or don’t know how to load\, stand\, aim\, shoot\, or unload your gun. \nPlease bring: \n\nFunctioning\, modern\, centerfire\,  firearm\nMagazines (minimum 3)\, or Speedloaders (revolvers- minimum 4)\nA way to carry a magazine or speedloader on your belt\n150- 200 rounds of ammo.  Bring what you can afford to shoot.  The most important thing is the training\, not the “Bang”\nHard sided holster- no trigger finger locks (Ex. Serpa) (Safariland OK)  This is a non-negotiable safety requirement.  If you show up with inappropriate gear\, you will be dismissed from class with NO REFUNDS.  Ask about your gear before class.\nAn appropriate “concealed carry” type belt (not a cop’s “Duty belt”).  We prefer the KORE. You don’t want a belt that stretches.\nEye Protection- This is a non-negotiable safety requirement.  If you show up with inappropriate gear\, you will be dismissed from class with NO REFUNDS.  Ask about your gear before class.\nElectronic hearing protection.  We prefer the Howard Leight Impact Sport models\, but there are plenty other brands out there.  only 3 loaners are available and must be reserved on a “first come\, first served” basis.  This is a non-negotiable safety requirement.  If you show up with inappropriate gear\, you will be dismissed from class with NO REFUNDS.  Ask about your gear before class.\nA Brimmed Hat- this keeps the brass from going behind your glasses.  This is a non-negotiable safety requirement.  If you show up with inappropriate gear\, you will be dismissed from class with NO REFUNDS.  Ask about your gear before class.\n\nYou can sign up for this class at: https://cdcllc.org/sign-up%2Fpay-for-classes/ols/products/defensive-pistol-101\nAt checkout: choose the “pickup” option NOT THE SHIPPING OPTION.  The payment link has specifics on course requirements.\n\nSee a list of all classes being offered at https://cdcllc.org/class-schedule-1 \nLPSA members will get a 20% discount when signing up for classes.  Check your email or reach out to Dave for the code. \nIf you have any questions\, please contact:\nDave Chang\n     Text (NO PHONE CALLS) 484-938-8828\n     E-mail: cdc123abc@gmail.com \nDave is the lead instructor for Civilian Defense Concepts and brings over a quarter of a century of training experience to the table. He is currently an NRA Training Counselor (pistol\, rifle\, shotgun\, home firearms safety\, CCW)\, NRA Refuse to be a Victim instructor (crime prevention course)\, NRA Chief Range Safety Officer\, an NRA LE Certified Instructor (pistol\, patrol rifle\, and shotgun)\, Sig Sauer Academy Certified Semi-Auto Pistol Instructor and a graduate of their Master Pistol Instructor and Pistol Mounted Red Dot Optics Instructor programs. He is also a Taser\, Pepper Spray\, Munio Self Defense Keychain\, AVERT and ALERRT active shooter response instructor\, Mental Health First Aid Provider instructor\, First Aid/CPR/AED instructor\, and Advanced Bleeding Control/Stop the Bleed certified instructor.  He believes in a holistic approach to self defense and he will be bringing many of these programs to the club.
URL:https://lpsa.us/event/defensive-pistol-101-dp101/
LOCATION:Lower Pottsgrove Sportsman’s Association\, 2121 Sanatoga Station Rd\, Pottstown\, PA\, 19464\, United States
CATEGORIES:Training
END:VEVENT
BEGIN:VEVENT
DTSTART;TZID=America/New_York:20250312T180000
DTEND;TZID=America/New_York:20250312T210000
DTSTAMP:20260425T123117
CREATED:20250114T191704Z
LAST-MODIFIED:20250212T010847Z
UID:3288-1741802400-1741813200@lpsa.us
SUMMARY:Gun Safety And Handling Course
DESCRIPTION:The club has partnered with Dave Chang and his company\, Civilian Defense Concepts\, LLC along with our new member Anna Cousins to provide this Gun Safety And Handling Course. \nNew to the firearms world?  Need a refresher?\nCome spend a few hours with us to learn the rules of gun safety and some fundamental firearms handling skills that will get you on the range in no time.\nWe will cover topics like: \n\nFirearms Safety\nSafe Firearm storage\nConcealed Carry Permits\nLoading magazines\nAiming\nHold and stance\nAmmunition selection\nProper trigger press\n\nAnd more!\nYou do not need to own your own firearm.\nIf you have your own firearm\, please feel free to bring it.\nNO LIVE AMMO in the classroom.  This is a non shooting course. Range time will be set up individually with participants (if needed) as a separate class. \nDave is the lead instructor for Civilian Defense Concepts and brings over a quarter of a century of training experience to the table. He is currently an NRA Training Counselor (pistol\, rifle\, shotgun\, home firearms safety\, CCW)\, NRA Refuse to be a Victim instructor (crime prevention course)\, NRA Chief Range Safety Officer\, an NRA LE Certified Instructor (pistol\, patrol rifle\, and shotgun)\, Sig Sauer Academy Certified Semi-Auto Pistol Instructor and a graduate of their Master Pistol Instructor and Pistol Mounted Red Dot Optics Instructor programs. He is also a Taser\, Pepper Spray\, Munio Self Defense Keychain\, AVERT and ALERRT active shooter response instructor\, Mental Health First Aid Provider instructor\, First Aid/CPR/AED instructor\, and Advanced Bleeding Control/Stop the Bleed certified instructor.  He believes in a holistic approach to self defense and he will be bringing many of these programs to the club. \nYou can sign up for this class at: https://cdcllc.org/sign-up%2Fpay-for-classes/ols/products/new-firearms-ownergun-safety-seminar\nAt checkout: choose the “pickup” option NOT THE SHIPPING OPTION.  The payment link has specifics on course requirements.\n\nSee a list of all classes being offered at https://cdcllc.org/class-schedule-1 \nLPSA members will get a 20% discount when signing up for classes.  Check your email or reach out to Dave for the code. \nIf you have any questions\, please contact:\nDave Chang\n     Text (NO PHONE CALLS) 484-938-8828\n     E-mail: cdc123abc@gmail.com \nDave is the lead instructor for Civilian Defense Concepts and brings over a quarter of a century of training experience to the table. He is currently an NRA Training Counselor (pistol\, rifle\, shotgun\, home firearms safety\, CCW)\, NRA Refuse to be a Victim instructor (crime prevention course)\, NRA Chief Range Safety Officer\, an NRA LE Certified Instructor (pistol\, patrol rifle\, and shotgun)\, Sig Sauer Academy Certified Semi-Auto Pistol Instructor and a graduate of their Master Pistol Instructor and Pistol Mounted Red Dot Optics Instructor programs. He is also a Taser\, Pepper Spray\, Munio Self Defense Keychain\, AVERT and ALERRT active shooter response instructor\, Mental Health First Aid Provider instructor\, First Aid/CPR/AED instructor\, and Advanced Bleeding Control/Stop the Bleed certified instructor.  He believes in a holistic approach to self defense and he will be bringing many of these programs to the club.
URL:https://lpsa.us/event/gun-safety-and-handling-course-3/
LOCATION:Lower Pottsgrove Sportsman’s Association\, 2121 Sanatoga Station Rd\, Pottstown\, PA\, 19464\, United States
CATEGORIES:Training
END:VEVENT
BEGIN:VEVENT
DTSTART;TZID=America/New_York:20250222T080000
DTEND;TZID=America/New_York:20250222T123000
DTSTAMP:20260425T123117
CREATED:20250125T034700Z
LAST-MODIFIED:20250125T034726Z
UID:3420-1740211200-1740227400@lpsa.us
SUMMARY:NRA Women On Target Instructional Shooting Clinic
DESCRIPTION:This course is an introduction to handgun safety Pistol\, and basic shooting fundamentals. One on One instruction is provided to each student. You bring the ATTITUDE and the instructors will supply the knowledge and skill. The class will start promptly at 8:00 pm. Please try and arrive 15 minutes prior. The cost of the class is $100 for members $125 for non members. An invoice will be sent to you when you register for the class and payment is required at that time. When you register for the class\, you may not be given confirmation. Please\, only register once. An email will be sent to you a few days prior to the class with information. Please check your spam folder. If you have eye and ear protection\, please bring them. We will provide ear protection\, FIREARMS and ammunition . If you have any questions\, email nicegrouping556@gmail.com Please DO NOT BRING A FIREARM OR AMMUNITION. \nVisit https://www.nrainstructors.org/CourseDetails.aspx?Courseid=865779 to register or for more information
URL:https://lpsa.us/event/nra-women-on-target-instructional-shooting-clinic/
LOCATION:Lower Pottsgrove Sportsman’s Association\, 2121 Sanatoga Station Rd\, Pottstown\, PA\, 19464\, United States
CATEGORIES:Training
END:VEVENT
BEGIN:VEVENT
DTSTART;TZID=America/New_York:20250219T180000
DTEND;TZID=America/New_York:20250219T210000
DTSTAMP:20260425T123117
CREATED:20250114T191701Z
LAST-MODIFIED:20250115T132747Z
UID:3289-1739988000-1739998800@lpsa.us
SUMMARY:Gun Safety And Handling Course
DESCRIPTION:The club has partnered with Dave Chang and his company\, Civilian Defense Concepts\, LLC along with our new member Anna Cousins to provide this Gun Safety And Handling Course. \nNew to the firearms world?  Need a refresher?\nCome spend a few hours with us to learn the rules of gun safety and some fundamental firearms handling skills that will get you on the range in no time.\nWe will cover topics like: \n\nFirearms Safety\nSafe Firearm storage\nConcealed Carry Permits\nLoading magazines\nAiming\nHold and stance\nAmmunition selection\nProper trigger press\n\nAnd more!\nYou do not need to own your own firearm.\nIf you have your own firearm\, please feel free to bring it.\nNO LIVE AMMO in the classroom.  This is a non shooting course. Range time will be set up individually with participants (if needed) as a separate class. \nDave is the lead instructor for Civilian Defense Concepts and brings over a quarter of a century of training experience to the table. He is currently an NRA Training Counselor (pistol\, rifle\, shotgun\, home firearms safety\, CCW)\, NRA Refuse to be a Victim instructor (crime prevention course)\, NRA Chief Range Safety Officer\, an NRA LE Certified Instructor (pistol\, patrol rifle\, and shotgun)\, Sig Sauer Academy Certified Semi-Auto Pistol Instructor and a graduate of their Master Pistol Instructor and Pistol Mounted Red Dot Optics Instructor programs. He is also a Taser\, Pepper Spray\, Munio Self Defense Keychain\, AVERT and ALERRT active shooter response instructor\, Mental Health First Aid Provider instructor\, First Aid/CPR/AED instructor\, and Advanced Bleeding Control/Stop the Bleed certified instructor.  He believes in a holistic approach to self defense and he will be bringing many of these programs to the club. \nYou can sign up for this class at: https://cdcllc.org/sign-up%2Fpay-for-classes/ols/products/new-firearms-ownergun-safety-seminar\nAt checkout: choose the “pickup” option NOT THE SHIPPING OPTION.  The payment link has specifics on course requirements.\n\nSee a list of all classes being offered at https://cdcllc.org/class-schedule-1 \nLPSA members will get a 20% discount when signing up for classes.  Check your email or reach out to Dave for the code. \nIf you have any questions\, please contact:\nDave Chang\n     Text (NO PHONE CALLS) 484-938-8828\n     E-mail: cdc123abc@gmail.com \nDave is the lead instructor for Civilian Defense Concepts and brings over a quarter of a century of training experience to the table. He is currently an NRA Training Counselor (pistol\, rifle\, shotgun\, home firearms safety\, CCW)\, NRA Refuse to be a Victim instructor (crime prevention course)\, NRA Chief Range Safety Officer\, an NRA LE Certified Instructor (pistol\, patrol rifle\, and shotgun)\, Sig Sauer Academy Certified Semi-Auto Pistol Instructor and a graduate of their Master Pistol Instructor and Pistol Mounted Red Dot Optics Instructor programs. He is also a Taser\, Pepper Spray\, Munio Self Defense Keychain\, AVERT and ALERRT active shooter response instructor\, Mental Health First Aid Provider instructor\, First Aid/CPR/AED instructor\, and Advanced Bleeding Control/Stop the Bleed certified instructor.  He believes in a holistic approach to self defense and he will be bringing many of these programs to the club.
URL:https://lpsa.us/event/gun-safety-and-handling-course-2/
LOCATION:Lower Pottsgrove Sportsman’s Association\, 2121 Sanatoga Station Rd\, Pottstown\, PA\, 19464\, United States
CATEGORIES:Training
END:VEVENT
BEGIN:VEVENT
DTSTART;TZID=America/New_York:20250201T080000
DTEND;TZID=America/New_York:20250201T120000
DTSTAMP:20260425T123117
CREATED:20250115T124850Z
LAST-MODIFIED:20250115T125050Z
UID:3340-1738396800-1738411200@lpsa.us
SUMMARY:CPR\, First Aid\, and AED Certification
DESCRIPTION:Learn basic wound and injury care and basic CPR and Rescue breathing skills.\nLearn how to operate an AED and receive a 2 year certification. Includes hands on training.\nCertificate meets OSHA requirements for a work related “Heartsaver” level CPR certification \nDave is the lead instructor for Civilian Defense Concepts and brings over a quarter of a century of training experience to the table. He is currently an NRA Training Counselor (pistol\, rifle\, shotgun\, home firearms safety\, CCW)\, NRA Refuse to be a Victim instructor (crime prevention course)\, NRA Chief Range Safety Officer\, an NRA LE Certified Instructor (pistol\, patrol rifle\, and shotgun)\, Sig Sauer Academy Certified Semi-Auto Pistol Instructor and a graduate of their Master Pistol Instructor and Pistol Mounted Red Dot Optics Instructor programs. He is also a Taser\, Pepper Spray\, Munio Self Defense Keychain\, AVERT and ALERRT active shooter response instructor\, Mental Health First Aid Provider instructor\, First Aid/CPR/AED instructor\, and Advanced Bleeding Control/Stop the Bleed certified instructor.  He believes in a holistic approach to self defense and he will be bringing many of these programs to the club. \nYou can sign up for this class at: https://cdcllc.org/sign-up%2Fpay-for-classes/ols/products/ashi-cprfirst-aidaed-certification\nAt checkout: choose the “pickup” option NOT THE SHIPPING OPTION.  The payment link has specifics on course requirements.\n\nSee a list of all classes being offered at https://cdcllc.org/class-schedule-1 \nLPSA members will get a 20% discount when signing up for classes.  Check your email or reach out to Dave for the code. \nIf you have any questions\, please contact:\nDave Chang\n     Text (NO PHONE CALLS) 484-938-8828\n     E-mail: cdc123abc@gmail.com
URL:https://lpsa.us/event/cpr-first-aid-and-aed-certification/
LOCATION:Lower Pottsgrove Sportsman’s Association\, 2121 Sanatoga Station Rd\, Pottstown\, PA\, 19464\, United States
CATEGORIES:Training
END:VEVENT
BEGIN:VEVENT
DTSTART;TZID=America/New_York:20250115T180000
DTEND;TZID=America/New_York:20250115T210000
DTSTAMP:20260425T123117
CREATED:20250114T191658Z
LAST-MODIFIED:20250115T132751Z
UID:3290-1736964000-1736974800@lpsa.us
SUMMARY:Gun Safety And Handling Course
DESCRIPTION:The club has partnered with Dave Chang and his company\, Civilian Defense Concepts\, LLC along with our new member Anna Cousins to provide this Gun Safety And Handling Course. \nNew to the firearms world?  Need a refresher?\nCome spend a few hours with us to learn the rules of gun safety and some fundamental firearms handling skills that will get you on the range in no time.\nWe will cover topics like: \n\nFirearms Safety\nSafe Firearm storage\nConcealed Carry Permits\nLoading magazines\nAiming\nHold and stance\nAmmunition selection\nProper trigger press\n\nAnd more!\nYou do not need to own your own firearm.\nIf you have your own firearm\, please feel free to bring it.\nNO LIVE AMMO in the classroom.  This is a non shooting course. Range time will be set up individually with participants (if needed) as a separate class. \nDave is the lead instructor for Civilian Defense Concepts and brings over a quarter of a century of training experience to the table. He is currently an NRA Training Counselor (pistol\, rifle\, shotgun\, home firearms safety\, CCW)\, NRA Refuse to be a Victim instructor (crime prevention course)\, NRA Chief Range Safety Officer\, an NRA LE Certified Instructor (pistol\, patrol rifle\, and shotgun)\, Sig Sauer Academy Certified Semi-Auto Pistol Instructor and a graduate of their Master Pistol Instructor and Pistol Mounted Red Dot Optics Instructor programs. He is also a Taser\, Pepper Spray\, Munio Self Defense Keychain\, AVERT and ALERRT active shooter response instructor\, Mental Health First Aid Provider instructor\, First Aid/CPR/AED instructor\, and Advanced Bleeding Control/Stop the Bleed certified instructor.  He believes in a holistic approach to self defense and he will be bringing many of these programs to the club. \nYou can sign up for this class at: https://cdcllc.org/sign-up%2Fpay-for-classes/ols/products/new-firearms-ownergun-safety-seminar\nAt checkout: choose the “pickup” option NOT THE SHIPPING OPTION.  The payment link has specifics on course requirements.\n\nSee a list of all classes being offered at https://cdcllc.org/class-schedule-1 \nLPSA members will get a 20% discount when signing up for classes.  Check your email or reach out to Dave for the code. \nIf you have any questions\, please contact:\nDave Chang\n     Text (NO PHONE CALLS) 484-938-8828\n     E-mail: cdc123abc@gmail.com \nDave is the lead instructor for Civilian Defense Concepts and brings over a quarter of a century of training experience to the table. He is currently an NRA Training Counselor (pistol\, rifle\, shotgun\, home firearms safety\, CCW)\, NRA Refuse to be a Victim instructor (crime prevention course)\, NRA Chief Range Safety Officer\, an NRA LE Certified Instructor (pistol\, patrol rifle\, and shotgun)\, Sig Sauer Academy Certified Semi-Auto Pistol Instructor and a graduate of their Master Pistol Instructor and Pistol Mounted Red Dot Optics Instructor programs. He is also a Taser\, Pepper Spray\, Munio Self Defense Keychain\, AVERT and ALERRT active shooter response instructor\, Mental Health First Aid Provider instructor\, First Aid/CPR/AED instructor\, and Advanced Bleeding Control/Stop the Bleed certified instructor.  He believes in a holistic approach to self defense and he will be bringing many of these programs to the club.
URL:https://lpsa.us/event/gun-safety-and-handling-course/
LOCATION:Lower Pottsgrove Sportsman’s Association\, 2121 Sanatoga Station Rd\, Pottstown\, PA\, 19464\, United States
CATEGORIES:Training
END:VEVENT
END:VCALENDAR