BEGIN:VCALENDAR
VERSION:2.0
PRODID:-//Lower Pottsgrove Sportsman&#039;s Association - ECPv6.15.13//NONSGML v1.0//EN
CALSCALE:GREGORIAN
METHOD:PUBLISH
X-WR-CALNAME:Lower Pottsgrove Sportsman&#039;s Association
X-ORIGINAL-URL:https://lpsa.us
X-WR-CALDESC:Events for Lower Pottsgrove Sportsman&#039;s Association
REFRESH-INTERVAL;VALUE=DURATION:PT1H
X-Robots-Tag:noindex
X-PUBLISHED-TTL:PT1H
BEGIN:VTIMEZONE
TZID:America/New_York
BEGIN:DAYLIGHT
TZOFFSETFROM:-0500
TZOFFSETTO:-0400
TZNAME:EDT
DTSTART:20250309T070000
END:DAYLIGHT
BEGIN:STANDARD
TZOFFSETFROM:-0400
TZOFFSETTO:-0500
TZNAME:EST
DTSTART:20251102T060000
END:STANDARD
BEGIN:DAYLIGHT
TZOFFSETFROM:-0500
TZOFFSETTO:-0400
TZNAME:EDT
DTSTART:20260308T070000
END:DAYLIGHT
BEGIN:STANDARD
TZOFFSETFROM:-0400
TZOFFSETTO:-0500
TZNAME:EST
DTSTART:20261101T060000
END:STANDARD
BEGIN:DAYLIGHT
TZOFFSETFROM:-0500
TZOFFSETTO:-0400
TZNAME:EDT
DTSTART:20270314T070000
END:DAYLIGHT
BEGIN:STANDARD
TZOFFSETFROM:-0400
TZOFFSETTO:-0500
TZNAME:EST
DTSTART:20271107T060000
END:STANDARD
END:VTIMEZONE
BEGIN:VEVENT
DTSTART;TZID=America/New_York:20260426T083000
DTEND;TZID=America/New_York:20260426T123000
DTSTAMP:20260424T135403
CREATED:20260409T180711Z
LAST-MODIFIED:20260409T180711Z
UID:3798-1777192200-1777206600@lpsa.us
SUMMARY:Women On Target!!
DESCRIPTION:If you’re curious about firearms (shotgun) whether for personal defense or\nto learn a new sport\, trapshooting. Women On Target® is the perfect place\nto start. This instructional shooting clinic is designed to teach you firearm\nsafety and the fundamentals of marksmanship\, giving you the confidence\nyou need to safely handle and operate a firearm upon completion. Women\nOn Target clinic are available to woman only — It’s a safe and friendly\nenvironment whether you’re picking up a shotgun for the very first time or\nare just brushing off some dust and need a little refresher. You’ll immediately\nfeel at ease in the half-day clinic\, and will be provided with a hands-on\, one-\nof-a-kind learning opportunity. No experience is necessary to participate.\nFirearms\, ammo and targets are included\, but if you have your own ear and\neye protection you are encouraged to bring and use them. Ready to give it a\ntry? Register today!\nClass will be held at Lower Pottsgrove Rod and Gun\n(SHOTGUN/TRAPSHOOTING)\n4/26/2026 8:30 am to 12:30 pm\nPlease contact Anna Cousins-Snyder NRA Training Counselor\nCertified in Pistol\, Rifle and Shotgun\, Concealed Carry Weapons\, Chief Range\nSafety Officer\, Handgun Instructor for the Maryland State Police and Certified\nGlock Armorer\nNicegrouping556@gmail.com 610-310-9539
URL:https://lpsa.us/event/women-on-target-2/
END:VEVENT
END:VCALENDAR