BEGIN:VCALENDAR
VERSION:2.0
PRODID:-//Lower Pottsgrove Sportsman&#039;s Association - ECPv6.15.13//NONSGML v1.0//EN
CALSCALE:GREGORIAN
METHOD:PUBLISH
X-WR-CALNAME:Lower Pottsgrove Sportsman&#039;s Association
X-ORIGINAL-URL:https://lpsa.us
X-WR-CALDESC:Events for Lower Pottsgrove Sportsman&#039;s Association
REFRESH-INTERVAL;VALUE=DURATION:PT1H
X-Robots-Tag:noindex
X-PUBLISHED-TTL:PT1H
BEGIN:VTIMEZONE
TZID:America/New_York
BEGIN:DAYLIGHT
TZOFFSETFROM:-0500
TZOFFSETTO:-0400
TZNAME:EDT
DTSTART:20250309T070000
END:DAYLIGHT
BEGIN:STANDARD
TZOFFSETFROM:-0400
TZOFFSETTO:-0500
TZNAME:EST
DTSTART:20251102T060000
END:STANDARD
BEGIN:DAYLIGHT
TZOFFSETFROM:-0500
TZOFFSETTO:-0400
TZNAME:EDT
DTSTART:20260308T070000
END:DAYLIGHT
BEGIN:STANDARD
TZOFFSETFROM:-0400
TZOFFSETTO:-0500
TZNAME:EST
DTSTART:20261101T060000
END:STANDARD
BEGIN:DAYLIGHT
TZOFFSETFROM:-0500
TZOFFSETTO:-0400
TZNAME:EDT
DTSTART:20270314T070000
END:DAYLIGHT
BEGIN:STANDARD
TZOFFSETFROM:-0400
TZOFFSETTO:-0500
TZNAME:EST
DTSTART:20271107T060000
END:STANDARD
END:VTIMEZONE
BEGIN:VEVENT
DTSTART;TZID=America/New_York:20260208T110000
DTEND;TZID=America/New_York:20260208T110000
DTSTAMP:20260424T171213
CREATED:20260112T174636Z
LAST-MODIFIED:20260128T152552Z
UID:3543-1770548400-1770548400@lpsa.us
SUMMARY:Pistol Shoot
DESCRIPTION:Sign-ups start at 10:30\, shoot begins at 11
URL:https://lpsa.us/event/pistol-shoot-35/
END:VEVENT
BEGIN:VEVENT
DTSTART;TZID=America/New_York:20260208T180000
DTEND;TZID=America/New_York:20260208T210000
DTSTAMP:20260424T171213
CREATED:20260112T155831Z
LAST-MODIFIED:20260112T155831Z
UID:3536-1770573600-1770584400@lpsa.us
SUMMARY:Super Bowl Party!!
DESCRIPTION:Starting at 6pm\, Bring your favorite dish or a snack to share! Food signup sheet will be posted in Clubhouse soon.
URL:https://lpsa.us/event/super-bowl-party-4/
END:VEVENT
END:VCALENDAR